BEGIN:VCALENDAR
VERSION:2.0
PRODID:-//Larrimac Golf and Tennis Club - ECPv6.15.17//NONSGML v1.0//EN
CALSCALE:GREGORIAN
METHOD:PUBLISH
X-WR-CALNAME:Larrimac Golf and Tennis Club
X-ORIGINAL-URL:https://larrimac.com
X-WR-CALDESC:Events for Larrimac Golf and Tennis Club
REFRESH-INTERVAL;VALUE=DURATION:PT1H
X-Robots-Tag:noindex
X-PUBLISHED-TTL:PT1H
BEGIN:VTIMEZONE
TZID:America/Toronto
BEGIN:DAYLIGHT
TZOFFSETFROM:-0500
TZOFFSETTO:-0400
TZNAME:EDT
DTSTART:20250309T070000
END:DAYLIGHT
BEGIN:STANDARD
TZOFFSETFROM:-0400
TZOFFSETTO:-0500
TZNAME:EST
DTSTART:20251102T060000
END:STANDARD
BEGIN:DAYLIGHT
TZOFFSETFROM:-0500
TZOFFSETTO:-0400
TZNAME:EDT
DTSTART:20260308T070000
END:DAYLIGHT
BEGIN:STANDARD
TZOFFSETFROM:-0400
TZOFFSETTO:-0500
TZNAME:EST
DTSTART:20261101T060000
END:STANDARD
BEGIN:DAYLIGHT
TZOFFSETFROM:-0500
TZOFFSETTO:-0400
TZNAME:EDT
DTSTART:20270314T070000
END:DAYLIGHT
BEGIN:STANDARD
TZOFFSETFROM:-0400
TZOFFSETTO:-0500
TZNAME:EST
DTSTART:20271107T060000
END:STANDARD
END:VTIMEZONE
BEGIN:VEVENT
DTSTART;TZID=America/Toronto:20260512T133000
DTEND;TZID=America/Toronto:20260512T170000
DTSTAMP:20260421T055052
CREATED:20260410T142718Z
LAST-MODIFIED:20260416T145144Z
UID:10003297-1778592600-1778605200@larrimac.com
SUMMARY:Women's Nine & Dine
DESCRIPTION:
URL:https://larrimac.com/event/womans-night-golf/2026-05-12/
END:VEVENT
BEGIN:VEVENT
DTSTART;TZID=America/Toronto:20260519T133000
DTEND;TZID=America/Toronto:20260519T170000
DTSTAMP:20260421T055053
CREATED:20260410T142718Z
LAST-MODIFIED:20260416T145144Z
UID:10003298-1779197400-1779210000@larrimac.com
SUMMARY:Women's Nine & Dine
DESCRIPTION:
URL:https://larrimac.com/event/womans-night-golf/2026-05-19/
END:VEVENT
BEGIN:VEVENT
DTSTART;TZID=America/Toronto:20260526T133000
DTEND;TZID=America/Toronto:20260526T170000
DTSTAMP:20260421T055053
CREATED:20260410T142718Z
LAST-MODIFIED:20260416T145144Z
UID:10003299-1779802200-1779814800@larrimac.com
SUMMARY:Women's Nine & Dine
DESCRIPTION:
URL:https://larrimac.com/event/womans-night-golf/2026-05-26/
END:VEVENT
BEGIN:VEVENT
DTSTART;TZID=America/Toronto:20260602T133000
DTEND;TZID=America/Toronto:20260602T170000
DTSTAMP:20260421T055053
CREATED:20260410T142718Z
LAST-MODIFIED:20260416T145144Z
UID:10003300-1780407000-1780419600@larrimac.com
SUMMARY:Women's Nine & Dine
DESCRIPTION:
URL:https://larrimac.com/event/womans-night-golf/2026-06-02/
END:VEVENT
BEGIN:VEVENT
DTSTART;TZID=America/Toronto:20260609T133000
DTEND;TZID=America/Toronto:20260609T170000
DTSTAMP:20260421T055053
CREATED:20260410T142718Z
LAST-MODIFIED:20260416T145144Z
UID:10003301-1781011800-1781024400@larrimac.com
SUMMARY:Women's Nine & Dine
DESCRIPTION:
URL:https://larrimac.com/event/womans-night-golf/2026-06-09/
END:VEVENT
BEGIN:VEVENT
DTSTART;TZID=America/Toronto:20260616T133000
DTEND;TZID=America/Toronto:20260616T170000
DTSTAMP:20260421T055053
CREATED:20260410T142718Z
LAST-MODIFIED:20260416T145144Z
UID:10003302-1781616600-1781629200@larrimac.com
SUMMARY:Women's Nine & Dine
DESCRIPTION:
URL:https://larrimac.com/event/womans-night-golf/2026-06-16/
END:VEVENT
BEGIN:VEVENT
DTSTART;TZID=America/Toronto:20260623T133000
DTEND;TZID=America/Toronto:20260623T170000
DTSTAMP:20260421T055053
CREATED:20260410T142718Z
LAST-MODIFIED:20260416T145144Z
UID:10003303-1782221400-1782234000@larrimac.com
SUMMARY:Women's Nine & Dine
DESCRIPTION:
URL:https://larrimac.com/event/womans-night-golf/2026-06-23/
END:VEVENT
BEGIN:VEVENT
DTSTART;TZID=America/Toronto:20260630T133000
DTEND;TZID=America/Toronto:20260630T170000
DTSTAMP:20260421T055053
CREATED:20260410T142718Z
LAST-MODIFIED:20260416T145144Z
UID:10003304-1782826200-1782838800@larrimac.com
SUMMARY:Women's Nine & Dine
DESCRIPTION:
URL:https://larrimac.com/event/womans-night-golf/2026-06-30/
END:VEVENT
BEGIN:VEVENT
DTSTART;TZID=America/Toronto:20260707T133000
DTEND;TZID=America/Toronto:20260707T170000
DTSTAMP:20260421T055053
CREATED:20260410T142718Z
LAST-MODIFIED:20260416T145144Z
UID:10003305-1783431000-1783443600@larrimac.com
SUMMARY:Women's Nine & Dine
DESCRIPTION:
URL:https://larrimac.com/event/womans-night-golf/2026-07-07/
END:VEVENT
BEGIN:VEVENT
DTSTART;TZID=America/Toronto:20260714T133000
DTEND;TZID=America/Toronto:20260714T170000
DTSTAMP:20260421T055053
CREATED:20260410T142718Z
LAST-MODIFIED:20260416T145144Z
UID:10003306-1784035800-1784048400@larrimac.com
SUMMARY:Women's Nine & Dine
DESCRIPTION:
URL:https://larrimac.com/event/womans-night-golf/2026-07-14/
END:VEVENT
BEGIN:VEVENT
DTSTART;TZID=America/Toronto:20260721T133000
DTEND;TZID=America/Toronto:20260721T170000
DTSTAMP:20260421T055053
CREATED:20260410T142718Z
LAST-MODIFIED:20260416T145144Z
UID:10003307-1784640600-1784653200@larrimac.com
SUMMARY:Women's Nine & Dine
DESCRIPTION:
URL:https://larrimac.com/event/womans-night-golf/2026-07-21/
END:VEVENT
BEGIN:VEVENT
DTSTART;TZID=America/Toronto:20260728T133000
DTEND;TZID=America/Toronto:20260728T170000
DTSTAMP:20260421T055053
CREATED:20260410T142718Z
LAST-MODIFIED:20260416T145144Z
UID:10003308-1785245400-1785258000@larrimac.com
SUMMARY:Women's Nine & Dine
DESCRIPTION:
URL:https://larrimac.com/event/womans-night-golf/2026-07-28/
END:VEVENT
BEGIN:VEVENT
DTSTART;TZID=America/Toronto:20260804T133000
DTEND;TZID=America/Toronto:20260804T170000
DTSTAMP:20260421T055053
CREATED:20260410T142718Z
LAST-MODIFIED:20260416T145144Z
UID:10003309-1785850200-1785862800@larrimac.com
SUMMARY:Women's Nine & Dine
DESCRIPTION:
URL:https://larrimac.com/event/womans-night-golf/2026-08-04/
END:VEVENT
BEGIN:VEVENT
DTSTART;TZID=America/Toronto:20260811T133000
DTEND;TZID=America/Toronto:20260811T170000
DTSTAMP:20260421T055053
CREATED:20260410T142718Z
LAST-MODIFIED:20260416T145144Z
UID:10003310-1786455000-1786467600@larrimac.com
SUMMARY:Women's Nine & Dine
DESCRIPTION:
URL:https://larrimac.com/event/womans-night-golf/2026-08-11/
END:VEVENT
BEGIN:VEVENT
DTSTART;TZID=America/Toronto:20260818T133000
DTEND;TZID=America/Toronto:20260818T170000
DTSTAMP:20260421T055053
CREATED:20260410T142718Z
LAST-MODIFIED:20260416T145144Z
UID:10003311-1787059800-1787072400@larrimac.com
SUMMARY:Women's Nine & Dine
DESCRIPTION:
URL:https://larrimac.com/event/womans-night-golf/2026-08-18/
END:VEVENT
BEGIN:VEVENT
DTSTART;TZID=America/Toronto:20260825T133000
DTEND;TZID=America/Toronto:20260825T170000
DTSTAMP:20260421T055053
CREATED:20260410T142718Z
LAST-MODIFIED:20260416T145144Z
UID:10003312-1787664600-1787677200@larrimac.com
SUMMARY:Women's Nine & Dine
DESCRIPTION:
URL:https://larrimac.com/event/womans-night-golf/2026-08-25/
END:VEVENT
BEGIN:VEVENT
DTSTART;TZID=America/Toronto:20260901T133000
DTEND;TZID=America/Toronto:20260901T170000
DTSTAMP:20260421T055053
CREATED:20260410T142718Z
LAST-MODIFIED:20260416T145144Z
UID:10003313-1788269400-1788282000@larrimac.com
SUMMARY:Women's Nine & Dine
DESCRIPTION:
URL:https://larrimac.com/event/womans-night-golf/2026-09-01/
END:VEVENT
BEGIN:VEVENT
DTSTART;TZID=America/Toronto:20260908T133000
DTEND;TZID=America/Toronto:20260908T170000
DTSTAMP:20260421T055053
CREATED:20260410T142718Z
LAST-MODIFIED:20260416T145144Z
UID:10003314-1788874200-1788886800@larrimac.com
SUMMARY:Women's Nine & Dine
DESCRIPTION:
URL:https://larrimac.com/event/womans-night-golf/2026-09-08/
END:VEVENT
BEGIN:VEVENT
DTSTART;TZID=America/Toronto:20260915T133000
DTEND;TZID=America/Toronto:20260915T170000
DTSTAMP:20260421T055053
CREATED:20260410T142718Z
LAST-MODIFIED:20260416T145144Z
UID:10003315-1789479000-1789491600@larrimac.com
SUMMARY:Women's Nine & Dine
DESCRIPTION:
URL:https://larrimac.com/event/womans-night-golf/2026-09-15/
END:VEVENT
END:VCALENDAR