BEGIN:VCALENDAR
VERSION:2.0
PRODID:-//Larrimac Golf and Tennis Club - ECPv6.15.17//NONSGML v1.0//EN
CALSCALE:GREGORIAN
METHOD:PUBLISH
X-ORIGINAL-URL:https://larrimac.com/fr/
X-WR-CALDESC:évènements pour Larrimac Golf and Tennis Club
REFRESH-INTERVAL;VALUE=DURATION:PT1H
X-Robots-Tag:noindex
X-PUBLISHED-TTL:PT1H
BEGIN:VTIMEZONE
TZID:America/Toronto
BEGIN:DAYLIGHT
TZOFFSETFROM:-0500
TZOFFSETTO:-0400
TZNAME:EDT
DTSTART:20250309T070000
END:DAYLIGHT
BEGIN:STANDARD
TZOFFSETFROM:-0400
TZOFFSETTO:-0500
TZNAME:EST
DTSTART:20251102T060000
END:STANDARD
BEGIN:DAYLIGHT
TZOFFSETFROM:-0500
TZOFFSETTO:-0400
TZNAME:EDT
DTSTART:20260308T070000
END:DAYLIGHT
BEGIN:STANDARD
TZOFFSETFROM:-0400
TZOFFSETTO:-0500
TZNAME:EST
DTSTART:20261101T060000
END:STANDARD
BEGIN:DAYLIGHT
TZOFFSETFROM:-0500
TZOFFSETTO:-0400
TZNAME:EDT
DTSTART:20270314T070000
END:DAYLIGHT
BEGIN:STANDARD
TZOFFSETFROM:-0400
TZOFFSETTO:-0500
TZNAME:EST
DTSTART:20271107T060000
END:STANDARD
END:VTIMEZONE
BEGIN:VEVENT
DTSTART;TZID=America/Toronto:20260101T130000
DTEND;TZID=America/Toronto:20260101T160000
DTSTAMP:20260424T045323
CREATED:20250401T153741Z
LAST-MODIFIED:20260115T213106Z
UID:10001843-1767272400-1767283200@larrimac.com
SUMMARY:Bridge
DESCRIPTION:
URL:https://larrimac.com/fr/event/bridge-2/2026-01-01/
END:VEVENT
BEGIN:VEVENT
DTSTART;TZID=America/Toronto:20260108T130000
DTEND;TZID=America/Toronto:20260108T160000
DTSTAMP:20260424T045323
CREATED:20250401T153741Z
LAST-MODIFIED:20260115T213106Z
UID:10001844-1767877200-1767888000@larrimac.com
SUMMARY:Bridge
DESCRIPTION:
URL:https://larrimac.com/fr/event/bridge-2/2026-01-08/
END:VEVENT
BEGIN:VEVENT
DTSTART;TZID=America/Toronto:20260115T130000
DTEND;TZID=America/Toronto:20260115T160000
DTSTAMP:20260424T045323
CREATED:20250401T153741Z
LAST-MODIFIED:20260115T213106Z
UID:10001845-1768482000-1768492800@larrimac.com
SUMMARY:Bridge
DESCRIPTION:
URL:https://larrimac.com/fr/event/bridge-2/2026-01-15/
END:VEVENT
BEGIN:VEVENT
DTSTART;TZID=America/Toronto:20260122T130000
DTEND;TZID=America/Toronto:20260122T160000
DTSTAMP:20260424T045323
CREATED:20250401T153741Z
LAST-MODIFIED:20260115T213106Z
UID:10001846-1769086800-1769097600@larrimac.com
SUMMARY:Bridge
DESCRIPTION:
URL:https://larrimac.com/fr/event/bridge-2/2026-01-22/
END:VEVENT
BEGIN:VEVENT
DTSTART;TZID=America/Toronto:20260128T190000
DTEND;TZID=America/Toronto:20260128T210000
DTSTAMP:20260424T045323
CREATED:20260119T183858Z
LAST-MODIFIED:20260119T183858Z
UID:10003116-1769626800-1769634000@larrimac.com
SUMMARY:Série de conférences Larrimac - Satya Brink
DESCRIPTION:
URL:https://larrimac.com/fr/event/serie-de-conferences-larrimac-satya-brink/
END:VEVENT
BEGIN:VEVENT
DTSTART;TZID=America/Toronto:20260129T130000
DTEND;TZID=America/Toronto:20260129T160000
DTSTAMP:20260424T045323
CREATED:20250401T153741Z
LAST-MODIFIED:20260115T213106Z
UID:10001847-1769691600-1769702400@larrimac.com
SUMMARY:Bridge
DESCRIPTION:
URL:https://larrimac.com/fr/event/bridge-2/2026-01-29/
END:VEVENT
END:VCALENDAR